BEGIN:VCALENDAR
VERSION:2.0
PRODID:-//Liquid Air - ECPv6.15.20//NONSGML v1.0//EN
CALSCALE:GREGORIAN
METHOD:PUBLISH
X-ORIGINAL-URL:https://www.liquidair.eu
X-WR-CALDESC:Veranstaltungen für Liquid Air
REFRESH-INTERVAL;VALUE=DURATION:PT1H
X-Robots-Tag:noindex
X-PUBLISHED-TTL:PT1H
BEGIN:VTIMEZONE
TZID:Europe/Vienna
BEGIN:DAYLIGHT
TZOFFSETFROM:+0100
TZOFFSETTO:+0200
TZNAME:CEST
DTSTART:20240331T010000
END:DAYLIGHT
BEGIN:STANDARD
TZOFFSETFROM:+0200
TZOFFSETTO:+0100
TZNAME:CET
DTSTART:20241027T010000
END:STANDARD
BEGIN:DAYLIGHT
TZOFFSETFROM:+0100
TZOFFSETTO:+0200
TZNAME:CEST
DTSTART:20250330T010000
END:DAYLIGHT
BEGIN:STANDARD
TZOFFSETFROM:+0200
TZOFFSETTO:+0100
TZNAME:CET
DTSTART:20251026T010000
END:STANDARD
BEGIN:DAYLIGHT
TZOFFSETFROM:+0100
TZOFFSETTO:+0200
TZNAME:CEST
DTSTART:20260329T010000
END:DAYLIGHT
BEGIN:STANDARD
TZOFFSETFROM:+0200
TZOFFSETTO:+0100
TZNAME:CET
DTSTART:20261025T010000
END:STANDARD
END:VTIMEZONE
BEGIN:VEVENT
DTSTART;TZID=Europe/Vienna:20250919T200000
DTEND;TZID=Europe/Vienna:20250919T230000
DTSTAMP:20260424T015434
CREATED:20250618T140356Z
LAST-MODIFIED:20250710T075658Z
UID:5992-1758312000-1758322800@www.liquidair.eu
SUMMARY:EP Release Show im U4
DESCRIPTION:„Wie lebt es sich in einer Welt\, die sich anfühlt wie das Vorwort zur Katastrophe?“\nDie Antwort auf diese Frage liefert die Wiener Band Rockband Liquid Air mit ihrer Debüt-EP „Daydreams“ – und bringt sie am 19. September live auf die Bühne des U4. \nZu erwarten ist ein intensives Set zwischen explosivem Art Rock\, dystopischem Charme und musikalischer Energie. Liquid Air stehen für mächtiges Piano\, komplexes Songwriting und eine Bühnenpräsenz\, die sich in über 30 Shows seit 2021 geschärft hat.\nLive bedeutet bei ihnen: kompromisslos\, ehrlich\, laut. \nDie Special Guests patchwork.fm glänzen mit eingängigen Melodien\, dynamischen Songs und einer erfrischenden Interpretation von Alternative Pop. Mit der neuen EP „Tug of War“\, die vor allem die Herausforderungen\, Konflikte und Emotionen in zwischenmenschlichen Beziehungen behandelt\, legen sie einen stimmigen Grundstein für den Abend.
URL:https://www.liquidair.eu/event/ep-release-show-im-u4/
LOCATION:U4\, Schönbrunnerstr. 222-228\, Wien\, 1120
CATEGORIES:Konzert
ATTACH;FMTTYPE=image/webp:https://www.liquidair.eu/wp-content/uploads/2025/06/signal-2025-07-03-190210_002.webp
END:VEVENT
END:VCALENDAR